BEGIN:VCALENDAR
PRODID:-//PUBBLE//agenda//NL
VERSION:2.0
METHOD:PUBLISH
BEGIN:VEVENT
DTSTART:20191006T083000Z
DTEND:20191006T110000Z
DTSTAMP:20260422T174322Z
UID:92d582ae-5ad4-43e9-8039-a9fb9167cbdc
CREATED:20260422T174322Z
NAME:Oldtimer Bromfietsrit O.V.C. De Vlotter  peelenmaasvenray.nl
X-WR-CALNAME:Oldtimer Bromfietsrit O.V.C. De Vlotter 
X-ALT-DESC;FMTTYPE=text/html:<a href='/agenda/2019/10/6/oldtimer-bromfietsrit-o-v-c-de-vlotter--75825'>/agenda/2019/10/6/oldtimer-bromfietsrit-o-v-c-de-vlotter--75825</a> || Al een aantal jaren een begrip in de regio, de oldtimer bromfietsritten vanuit Overloon!
Van april tot en met oktober maken we op iedere eerste zondag van de maand een mooie toerrit door de omgeving.
Kijk op de website voor alle informatie www.de-vlotter.nl. Hier vindt u ook de huisregels.
Losse rit € 3,00, seizoendeelname € 12,00.

DESCRIPTION:<a href='/agenda/2019/10/6/oldtimer-bromfietsrit-o-v-c-de-vlotter--75825'>/agenda/2019/10/6/oldtimer-bromfietsrit-o-v-c-de-vlotter--75825</a> || Al een aantal jaren een begrip in de regio, de oldtimer bromfietsritten vanuit Overloon!
Van april tot en met oktober maken we op iedere eerste zondag van de maand een mooie toerrit door de omgeving.
Kijk op de website voor alle informatie www.de-vlotter.nl. Hier vindt u ook de huisregels.
Losse rit € 3,00, seizoendeelname € 12,00.

LAST-MODIFIED:20260422T174322Z
LOCATION: Café Partycentrum Bos | Irenestraat 8 Overloon
SEQUENCE:0
STATUS:CONFIRMED
SUMMARY:Oldtimer Bromfietsrit O.V.C. De Vlotter 
TRANSP:OPAQUE
END:VEVENT
END:VCALENDAR
