BEGIN:VCALENDAR
PRODID:-//PUBBLE//agenda//NL
VERSION:2.0
METHOD:PUBLISH
BEGIN:VEVENT
DTSTART:20180313T110113Z
DTEND:20180313T120113Z
DTSTAMP:20260423T214044Z
UID:8ae90c7d-db85-4172-8ee2-309191bcbff1
CREATED:20260423T214044Z
NAME:Klucht toneelvereniging 't is W.A.T. peelenmaasvenray.nl
X-WR-CALNAME:Klucht toneelvereniging 't is W.A.T.
X-ALT-DESC;FMTTYPE=text/html:<a href='/agenda/2018/3/16/klucht-toneelvereniging-t-is-w-a-t--71958'>/agenda/2018/3/16/klucht-toneelvereniging-t-is-w-a-t--71958</a> || <p>Toneelvereniging &#39;t is W.A.T. uit Wanssum staat op vrijdag 16, zaterdag 17 en zondag 18 maart op de planken met de nieuwe klucht De erfenis van Tante Bella, geschreven door Henk Roede.</p>

<p>Het toneelstuk gaat over Tante Bella. Deze tante van Coby en Albert is overleden. Coby en Albert hebben hier niet zo erg om gerouwd, want een band met de tante hadden ze niet. Sterker nog, eigenlijk zijn ze zelfs wel blij met haar overlijden, want ze hebben nu immers een erfenis en die erfenis bestaat uit een wat verpauperde beautysalon. Coby is er van overtuigd dat de beautysalon met een likje verf en wat kleine aanpassingen voor goud geld te verkopen is. Maar is dit allemaal wel zo&#39;n goed plan? Immers tot de verkoop moet de beautysalon natuurlijk wel gewoon doordraaien en dan is er wel personeel nodig. En dat is niet het enige probleem waar broer en zus mee te kampen hebben, want zo&#39;n gemakkelijk klantenbestand had tante Bella nu ook weer niet. Trouwens zijn Coby en Albert wel de enige erfgenamen?</p>

<p>De voorstellingen vinden plaats in De Zandhoek aan de St. Leonardsweg 1 in Wanssum en beginnen op vrijdag en zaterdag om 19.30 uur en op zondag om 14.00 uur.</p>



DESCRIPTION:<a href='/agenda/2018/3/16/klucht-toneelvereniging-t-is-w-a-t--71958'>/agenda/2018/3/16/klucht-toneelvereniging-t-is-w-a-t--71958</a> || <p>Toneelvereniging &#39;t is W.A.T. uit Wanssum staat op vrijdag 16, zaterdag 17 en zondag 18 maart op de planken met de nieuwe klucht De erfenis van Tante Bella, geschreven door Henk Roede.</p>

<p>Het toneelstuk gaat over Tante Bella. Deze tante van Coby en Albert is overleden. Coby en Albert hebben hier niet zo erg om gerouwd, want een band met de tante hadden ze niet. Sterker nog, eigenlijk zijn ze zelfs wel blij met haar overlijden, want ze hebben nu immers een erfenis en die erfenis bestaat uit een wat verpauperde beautysalon. Coby is er van overtuigd dat de beautysalon met een likje verf en wat kleine aanpassingen voor goud geld te verkopen is. Maar is dit allemaal wel zo&#39;n goed plan? Immers tot de verkoop moet de beautysalon natuurlijk wel gewoon doordraaien en dan is er wel personeel nodig. En dat is niet het enige probleem waar broer en zus mee te kampen hebben, want zo&#39;n gemakkelijk klantenbestand had tante Bella nu ook weer niet. Trouwens zijn Coby en Albert wel de enige erfgenamen?</p>

<p>De voorstellingen vinden plaats in De Zandhoek aan de St. Leonardsweg 1 in Wanssum en beginnen op vrijdag en zaterdag om 19.30 uur en op zondag om 14.00 uur.</p>



LAST-MODIFIED:20260423T214044Z
LOCATION: De Zandhoek | St. Leonardsweg 1  Wanssum
SEQUENCE:0
STATUS:CONFIRMED
SUMMARY:Klucht toneelvereniging 't is W.A.T.
TRANSP:OPAQUE
END:VEVENT
END:VCALENDAR
