BEGIN:VCALENDAR
PRODID:-//PUBBLE//agenda//NL
VERSION:2.0
METHOD:PUBLISH
BEGIN:VEVENT
DTSTART:20180306T145342Z
DTEND:20180306T155342Z
DTSTAMP:20260423T214105Z
UID:7a5da77c-ea2f-4929-b671-2adf86a1b6a6
CREATED:20260423T214105Z
NAME:Muzikale tijdreis in Schouwburg Venray peelenmaasvenray.nl
X-WR-CALNAME:Muzikale tijdreis in Schouwburg Venray
X-ALT-DESC;FMTTYPE=text/html:<a href='/agenda/2018/3/17/muzikale-tijdreis-in-schouwburg-venray-71893'>/agenda/2018/3/17/muzikale-tijdreis-in-schouwburg-venray-71893</a> || <p>De bezoekers aan de schouwburg in Venray worden op zaterdag 17 maart om 15.00 uur meegenomen op een muzikale tijdreis door enkele spraakmakende verhalen uit Lang geleden&hellip;, gebaseerd op het bekende kinderboek van Arend van Dam.</p>

<p>In het theateravontuur Lang geleden&hellip; is het levensverhaal van Willem van Oranje te zien, verteld door een gezelschap van enthousiaste, hedendaagse theatermakers. Ook komen de bezoekers oog in oog te staan met Hugo de Groot en Jacoba van Beieren. Sommige verhalen klinken bijna te sprookjesachtig om waar te zijn, maar ze zijn allemaal echt gebeurd. Met echte pure livemuziek, onvervalste humor en prachtige kostuums kan iedereen genieten van de vaderlandse geschiedenis.</p>

<p>Na afloop van de voorstelling kan er met de acteurs op de foto worden gegaan tijdens een uitgebreide meet &amp; greet. Ook kunnen de jonge theaterbezoekers voor de voorstelling in de foyer deelnemen aan de Geschiedenis Experience die bestaat uit diverse activiteiten over de Nederlandse geschiedenis.</p>

<p>Kaarten zijn te reserveren via www.schouwburgvenray.nl of via telefoon (0478)530999.</p>

DESCRIPTION:<a href='/agenda/2018/3/17/muzikale-tijdreis-in-schouwburg-venray-71893'>/agenda/2018/3/17/muzikale-tijdreis-in-schouwburg-venray-71893</a> || <p>De bezoekers aan de schouwburg in Venray worden op zaterdag 17 maart om 15.00 uur meegenomen op een muzikale tijdreis door enkele spraakmakende verhalen uit Lang geleden&hellip;, gebaseerd op het bekende kinderboek van Arend van Dam.</p>

<p>In het theateravontuur Lang geleden&hellip; is het levensverhaal van Willem van Oranje te zien, verteld door een gezelschap van enthousiaste, hedendaagse theatermakers. Ook komen de bezoekers oog in oog te staan met Hugo de Groot en Jacoba van Beieren. Sommige verhalen klinken bijna te sprookjesachtig om waar te zijn, maar ze zijn allemaal echt gebeurd. Met echte pure livemuziek, onvervalste humor en prachtige kostuums kan iedereen genieten van de vaderlandse geschiedenis.</p>

<p>Na afloop van de voorstelling kan er met de acteurs op de foto worden gegaan tijdens een uitgebreide meet &amp; greet. Ook kunnen de jonge theaterbezoekers voor de voorstelling in de foyer deelnemen aan de Geschiedenis Experience die bestaat uit diverse activiteiten over de Nederlandse geschiedenis.</p>

<p>Kaarten zijn te reserveren via www.schouwburgvenray.nl of via telefoon (0478)530999.</p>

LAST-MODIFIED:20260423T214105Z
LOCATION: Schouwburgplein |   Venray
SEQUENCE:0
STATUS:CONFIRMED
SUMMARY:Muzikale tijdreis in Schouwburg Venray
TRANSP:OPAQUE
END:VEVENT
END:VCALENDAR
