BEGIN:VCALENDAR
PRODID:-//PUBBLE//agenda//NL
VERSION:2.0
METHOD:PUBLISH
BEGIN:VEVENT
DTSTART:20170802T173000Z
DTEND:20170802T183000Z
DTSTAMP:20260425T165105Z
UID:087a6cfd-67b8-46cf-9927-e1b96127e360
CREATED:20260425T165105Z
NAME:Wichelroedelopen met Wiel Moest peelenmaasvenray.nl
X-WR-CALNAME:Wichelroedelopen met Wiel Moest
X-ALT-DESC;FMTTYPE=text/html:<a href='/agenda/2017/8/2/wichelroedelopen-met-wiel-moest-68963'>/agenda/2017/8/2/wichelroedelopen-met-wiel-moest-68963</a> || <p>De workshop vindt plaats tijdens een wandeling en zal ongeveer twee uur duren, afhankelijk van groepsgrootte. U krijgt uitleg van Wiel Moest over hoe het wichelen tot stand komt en u krijgt zelf een wichelroede in de hand waar u mee aan de slag gaat. De energie&euml;n die uitgelegd gaan worden en u zelf gaat meten zijn: &bull; Boomenergie &bull; Energie van personen &bull; Waterader met diepte meting. &bull; Aardstralen zoals het Hartmann-netwerk, Curry-netwerk en Benker-netwerk. Voorts schenken we aandacht aan de Bovis-waarde. Vragen die u over dit onderwerp heeft kunnen tijdens en na de workshop gesteld worden. Het belooft wederom een interessante en leerzame avond te worden! De kosten voor de workshop bedragen &euro; 12,50 incl. koffie/thee en deze vindt plaats op woensdag 2 augustus om 19.30 uur. Aanmelden graag vooraf bij Ontmoetingspunt &#39;t Helder via tel. 0478-641404 / 06-27007511 of email t-helder@ziggo.nl. &#39;t Helder is gelegen aan de Helderseweg 31 in Overloon. Meer informatie vindt u op de website www.helder-overloon.com.</p>

DESCRIPTION:<a href='/agenda/2017/8/2/wichelroedelopen-met-wiel-moest-68963'>/agenda/2017/8/2/wichelroedelopen-met-wiel-moest-68963</a> || <p>De workshop vindt plaats tijdens een wandeling en zal ongeveer twee uur duren, afhankelijk van groepsgrootte. U krijgt uitleg van Wiel Moest over hoe het wichelen tot stand komt en u krijgt zelf een wichelroede in de hand waar u mee aan de slag gaat. De energie&euml;n die uitgelegd gaan worden en u zelf gaat meten zijn: &bull; Boomenergie &bull; Energie van personen &bull; Waterader met diepte meting. &bull; Aardstralen zoals het Hartmann-netwerk, Curry-netwerk en Benker-netwerk. Voorts schenken we aandacht aan de Bovis-waarde. Vragen die u over dit onderwerp heeft kunnen tijdens en na de workshop gesteld worden. Het belooft wederom een interessante en leerzame avond te worden! De kosten voor de workshop bedragen &euro; 12,50 incl. koffie/thee en deze vindt plaats op woensdag 2 augustus om 19.30 uur. Aanmelden graag vooraf bij Ontmoetingspunt &#39;t Helder via tel. 0478-641404 / 06-27007511 of email t-helder@ziggo.nl. &#39;t Helder is gelegen aan de Helderseweg 31 in Overloon. Meer informatie vindt u op de website www.helder-overloon.com.</p>

LAST-MODIFIED:20260425T165105Z
LOCATION: Ontmoetingspunt 't Helder | Helderseweg 31 Overloon
SEQUENCE:0
STATUS:CONFIRMED
SUMMARY:Wichelroedelopen met Wiel Moest
TRANSP:OPAQUE
END:VEVENT
END:VCALENDAR
